BEGIN:VCALENDAR
VERSION:2.0
PRODID:-//Mon chien Mon copain - ECPv5.12.3//NONSGML v1.0//EN
CALSCALE:GREGORIAN
METHOD:PUBLISH
X-WR-CALNAME:Mon chien Mon copain
X-ORIGINAL-URL:http://www.monchien.org
X-WR-CALDESC:évènements pour Mon chien Mon copain
BEGIN:VTIMEZONE
TZID:UTC
BEGIN:STANDARD
TZOFFSETFROM:+0000
TZOFFSETTO:+0000
TZNAME:UTC
DTSTART:20130101T000000
END:STANDARD
END:VTIMEZONE
BEGIN:VEVENT
DTSTART;TZID=UTC:20130518T080000
DTEND;TZID=UTC:20130518T170000
DTSTAMP:20260422T094134
CREATED:20130412T132030Z
LAST-MODIFIED:20130412T132030Z
UID:1775-1368864000-1368896400@www.monchien.org
SUMMARY:Séance de confirmations
DESCRIPTION:
URL:http://www.monchien.org/evenement/seance-de-confirmations-38
LOCATION:Unnamed Venue\, Agen\, France
ORGANIZER;CN="Soci%C3%A9t%C3%A9%20Canine%20du%20LOT%20ET%20GARONNE":MAILTO:marina.monclus@sfr.fr
END:VEVENT
END:VCALENDAR